BEGIN:VCALENDAR
VERSION:2.0
PRODID:-//eventon.com NONSGML v1.0//EN
CALSCALE:GREGORIAN
METHOD:PUBLISH
BEGIN:VEVENT
UID:69ea1e38e78de
DTSTAMP:20260423T132720Z
DTSTART:20191123T100000Z
DTEND:20191123T140000Z
LOCATION:Wickham Park 2500 Parkway Dr\,  Melbourne\,  FL 32935
SUMMARY:Hoot in the Park
DESCRIPTION:Pet &amp; Family friendly event benefitting Florida Wildlife Ho
 spital and Sanctuary Event includes: Live Animals Lots of Vendors Raffle It
 ems Photos with Santa Lure Course for dogs Food Trucks\nhttps://floridawild
 lifehospital.org/events/hoot-in-the-park/
URL:https://floridawildlifehospital.org/events/hoot-in-the-park/
END:VEVENT
END:VCALENDAR